BEGIN:VCALENDAR
VERSION:2.0
PRODID:-//West End Academy - ECPv5.1.4//NONSGML v1.0//EN
CALSCALE:GREGORIAN
METHOD:PUBLISH
X-WR-CALNAME:West End Academy
X-ORIGINAL-URL:https://west-end-academy.org
X-WR-CALDESC:Events for West End Academy
BEGIN:VTIMEZONE
TZID:Europe/London
BEGIN:DAYLIGHT
TZOFFSETFROM:+0000
TZOFFSETTO:+0100
TZNAME:BST
DTSTART:20260329T010000
END:DAYLIGHT
BEGIN:STANDARD
TZOFFSETFROM:+0100
TZOFFSETTO:+0000
TZNAME:GMT
DTSTART:20261025T010000
END:STANDARD
END:VTIMEZONE
BEGIN:VEVENT
DTSTART;TZID=Europe/London:20260514T143000
DTEND;TZID=Europe/London:20260514T150000
DTSTAMP:20260423T224214
CREATED:20260420T111238Z
LAST-MODIFIED:20260420T111238Z
UID:5497-1778769000-1778770800@west-end-academy.org
SUMMARY:Year 2 Read Together
DESCRIPTION:
URL:https://west-end-academy.org/event/year-2-read-together/
END:VEVENT
END:VCALENDAR