BEGIN:VCALENDAR
VERSION:2.0
PRODID:-//West End Academy - ECPv5.1.4//NONSGML v1.0//EN
CALSCALE:GREGORIAN
METHOD:PUBLISH
X-WR-CALNAME:West End Academy
X-ORIGINAL-URL:https://west-end-academy.org
X-WR-CALDESC:Events for West End Academy
BEGIN:VTIMEZONE
TZID:Europe/London
BEGIN:DAYLIGHT
TZOFFSETFROM:+0000
TZOFFSETTO:+0100
TZNAME:BST
DTSTART:20240331T010000
END:DAYLIGHT
BEGIN:STANDARD
TZOFFSETFROM:+0100
TZOFFSETTO:+0000
TZNAME:GMT
DTSTART:20241027T010000
END:STANDARD
END:VTIMEZONE
BEGIN:VEVENT
DTSTART;VALUE=DATE:20241220
DTEND;VALUE=DATE:20241221
DTSTAMP:20260423T235617
CREATED:20240919T092955Z
LAST-MODIFIED:20240919T092955Z
UID:4124-1734652800-1734739199@west-end-academy.org
SUMMARY:Upper Key Stage 2 Christmas Party
DESCRIPTION:
URL:https://west-end-academy.org/event/upper-key-stage-2-christmas-party-2/
END:VEVENT
END:VCALENDAR