BEGIN:VCALENDAR
VERSION:2.0
PRODID:-//West End Academy - ECPv5.1.4//NONSGML v1.0//EN
CALSCALE:GREGORIAN
METHOD:PUBLISH
X-WR-CALNAME:West End Academy
X-ORIGINAL-URL:https://west-end-academy.org
X-WR-CALDESC:Events for West End Academy
BEGIN:VTIMEZONE
TZID:Europe/London
BEGIN:DAYLIGHT
TZOFFSETFROM:+0000
TZOFFSETTO:+0100
TZNAME:BST
DTSTART:20250330T010000
END:DAYLIGHT
BEGIN:STANDARD
TZOFFSETFROM:+0100
TZOFFSETTO:+0000
TZNAME:GMT
DTSTART:20251026T010000
END:STANDARD
END:VTIMEZONE
BEGIN:VEVENT
DTSTART;TZID=Europe/London:20250107T084500
DTEND;TZID=Europe/London:20250107T084500
DTSTAMP:20260422T062259
CREATED:20240906T101041Z
LAST-MODIFIED:20240906T101041Z
UID:3922-1736239500-1736239500@west-end-academy.org
SUMMARY:School opens for spring 1
DESCRIPTION:
URL:https://west-end-academy.org/event/school-opens-for-spring-1-2/
END:VEVENT
END:VCALENDAR