BEGIN:VCALENDAR
VERSION:2.0
PRODID:-//West End Academy - ECPv5.1.4//NONSGML v1.0//EN
CALSCALE:GREGORIAN
METHOD:PUBLISH
X-WR-CALNAME:West End Academy
X-ORIGINAL-URL:https://west-end-academy.org
X-WR-CALDESC:Events for West End Academy
BEGIN:VTIMEZONE
TZID:Europe/London
BEGIN:DAYLIGHT
TZOFFSETFROM:+0000
TZOFFSETTO:+0100
TZNAME:BST
DTSTART:20250330T010000
END:DAYLIGHT
BEGIN:STANDARD
TZOFFSETFROM:+0100
TZOFFSETTO:+0000
TZNAME:GMT
DTSTART:20251026T010000
END:STANDARD
END:VTIMEZONE
BEGIN:VEVENT
DTSTART;VALUE=DATE:20250702
DTEND;VALUE=DATE:20250703
DTSTAMP:20260425T142441
CREATED:20250425T115513Z
LAST-MODIFIED:20250425T115513Z
UID:4625-1751414400-1751500799@west-end-academy.org
SUMMARY:Year 4 visit to Yorkshire Water
DESCRIPTION:
URL:https://west-end-academy.org/event/year-4-visit-to-yorkshire-water-3/
END:VEVENT
BEGIN:VEVENT
DTSTART;VALUE=DATE:20250708
DTEND;VALUE=DATE:20250709
DTSTAMP:20260425T142441
CREATED:20250425T115525Z
LAST-MODIFIED:20250425T115525Z
UID:4627-1751932800-1752019199@west-end-academy.org
SUMMARY:School reports handed out
DESCRIPTION:
URL:https://west-end-academy.org/event/school-reports-handed-out-3/
END:VEVENT
BEGIN:VEVENT
DTSTART;VALUE=DATE:20250708
DTEND;VALUE=DATE:20250709
DTSTAMP:20260425T142441
CREATED:20250425T115537Z
LAST-MODIFIED:20250425T115537Z
UID:4629-1751932800-1752019199@west-end-academy.org
SUMMARY:Year 6 production
DESCRIPTION:
URL:https://west-end-academy.org/event/year-6-production-3/
END:VEVENT
BEGIN:VEVENT
DTSTART;VALUE=DATE:20250709
DTEND;VALUE=DATE:20250710
DTSTAMP:20260425T142441
CREATED:20250425T115552Z
LAST-MODIFIED:20250425T115552Z
UID:4631-1752019200-1752105599@west-end-academy.org
SUMMARY:Year 6 visit to York St John University
DESCRIPTION:
URL:https://west-end-academy.org/event/year-6-visit-to-york-st-john-university/
END:VEVENT
BEGIN:VEVENT
DTSTART;VALUE=DATE:20250714
DTEND;VALUE=DATE:20250715
DTSTAMP:20260425T142441
CREATED:20250425T115607Z
LAST-MODIFIED:20250425T115607Z
UID:4633-1752451200-1752537599@west-end-academy.org
SUMMARY:Parents’ evening
DESCRIPTION:
URL:https://west-end-academy.org/event/parents-evening-15/
END:VEVENT
BEGIN:VEVENT
DTSTART;VALUE=DATE:20250715
DTEND;VALUE=DATE:20250716
DTSTAMP:20260425T142441
CREATED:20250425T115909Z
LAST-MODIFIED:20250425T115909Z
UID:4635-1752537600-1752623999@west-end-academy.org
SUMMARY:Children meet their new teacher
DESCRIPTION:
URL:https://west-end-academy.org/event/children-meet-their-new-teacher-4/
END:VEVENT
BEGIN:VEVENT
DTSTART;VALUE=DATE:20250718
DTEND;VALUE=DATE:20250719
DTSTAMP:20260425T142441
CREATED:20250425T115929Z
LAST-MODIFIED:20250425T115929Z
UID:4637-1752796800-1752883199@west-end-academy.org
SUMMARY:Year 6 leavers’ assembly
DESCRIPTION:
URL:https://west-end-academy.org/event/year-6-leavers-assembly-4/
END:VEVENT
BEGIN:VEVENT
DTSTART;TZID=Europe/London:20250718T151500
DTEND;TZID=Europe/London:20250718T151500
DTSTAMP:20260425T142441
CREATED:20240906T101634Z
LAST-MODIFIED:20240906T101634Z
UID:3936-1752851700-1752851700@west-end-academy.org
SUMMARY:School closes for summer
DESCRIPTION:
URL:https://west-end-academy.org/event/school-opens-for-summer-2-3/
END:VEVENT
BEGIN:VEVENT
DTSTART;VALUE=DATE:20250721
DTEND;VALUE=DATE:20250722
DTSTAMP:20260425T142441
CREATED:20250425T120009Z
LAST-MODIFIED:20250425T120009Z
UID:4639-1753056000-1753142399@west-end-academy.org
SUMMARY:INSET day
DESCRIPTION:
URL:https://west-end-academy.org/event/inset-day-16/
END:VEVENT
BEGIN:VEVENT
DTSTART;VALUE=DATE:20250722
DTEND;VALUE=DATE:20250723
DTSTAMP:20260425T142441
CREATED:20250425T120025Z
LAST-MODIFIED:20250425T120025Z
UID:4641-1753142400-1753228799@west-end-academy.org
SUMMARY:INSET day
DESCRIPTION:
URL:https://west-end-academy.org/event/inset-day-17/
END:VEVENT
END:VCALENDAR