BEGIN:VCALENDAR
VERSION:2.0
PRODID:-//West End Academy - ECPv5.1.4//NONSGML v1.0//EN
CALSCALE:GREGORIAN
METHOD:PUBLISH
X-WR-CALNAME:West End Academy
X-ORIGINAL-URL:https://west-end-academy.org
X-WR-CALDESC:Events for West End Academy
BEGIN:VTIMEZONE
TZID:Europe/London
BEGIN:DAYLIGHT
TZOFFSETFROM:+0000
TZOFFSETTO:+0100
TZNAME:BST
DTSTART:20250330T010000
END:DAYLIGHT
BEGIN:STANDARD
TZOFFSETFROM:+0100
TZOFFSETTO:+0000
TZNAME:GMT
DTSTART:20251026T010000
END:STANDARD
END:VTIMEZONE
BEGIN:VEVENT
DTSTART;VALUE=DATE:20250602
DTEND;VALUE=DATE:20250603
DTSTAMP:20260425T161236
CREATED:20250425T113836Z
LAST-MODIFIED:20250425T113836Z
UID:4601-1748822400-1748908799@west-end-academy.org
SUMMARY:Governors’ meeting
DESCRIPTION:
URL:https://west-end-academy.org/event/governors-meeting-10/
END:VEVENT
BEGIN:VEVENT
DTSTART;TZID=Europe/London:20250602T084500
DTEND;TZID=Europe/London:20250602T084500
DTSTAMP:20260425T161236
CREATED:20240906T101907Z
LAST-MODIFIED:20240906T101907Z
UID:5203-1748853900-1748853900@west-end-academy.org
SUMMARY:School opens for summer 2
DESCRIPTION:
URL:https://west-end-academy.org/event/school-opens-for-summer-2-4/
END:VEVENT
BEGIN:VEVENT
DTSTART;TZID=Europe/London:20250602T090000
DTEND;TZID=Europe/London:20250602T090000
DTSTAMP:20260425T161236
CREATED:20250425T113854Z
LAST-MODIFIED:20250425T113854Z
UID:4603-1748854800-1748854800@west-end-academy.org
SUMMARY:Year 3 visit to places of worship
DESCRIPTION:
URL:https://west-end-academy.org/event/year-3-visit-to-places-of-worship/
END:VEVENT
BEGIN:VEVENT
DTSTART;TZID=Europe/London:20250602T090000
DTEND;TZID=Europe/London:20250602T090000
DTSTAMP:20260425T161236
CREATED:20250425T115458Z
LAST-MODIFIED:20250425T115458Z
UID:4623-1748854800-1748854800@west-end-academy.org
SUMMARY:Year 2 visit to Thackray Museum of Medicine
DESCRIPTION:
URL:https://west-end-academy.org/event/year-2-visit-to-thackray-museum-of-medicine-2/
END:VEVENT
BEGIN:VEVENT
DTSTART;VALUE=DATE:20250604
DTEND;VALUE=DATE:20250605
DTSTAMP:20260425T161236
CREATED:20250425T113905Z
LAST-MODIFIED:20250425T113905Z
UID:4605-1748995200-1749081599@west-end-academy.org
SUMMARY:Year 6 residential to How Stean Gorge
DESCRIPTION:
URL:https://west-end-academy.org/event/year-6-residential-to-how-stean-gorge-3/
END:VEVENT
BEGIN:VEVENT
DTSTART;VALUE=DATE:20250609
DTEND;VALUE=DATE:20250610
DTSTAMP:20260425T161236
CREATED:20250425T113924Z
LAST-MODIFIED:20250425T113924Z
UID:4607-1749427200-1749513599@west-end-academy.org
SUMMARY:Phonics Screening for Year 1
DESCRIPTION:
URL:https://west-end-academy.org/event/phonics-screening-for-year-1-3/
END:VEVENT
BEGIN:VEVENT
DTSTART;VALUE=DATE:20250610
DTEND;VALUE=DATE:20250611
DTSTAMP:20260425T161236
CREATED:20250425T113939Z
LAST-MODIFIED:20250425T113939Z
UID:4609-1749513600-1749599999@west-end-academy.org
SUMMARY:Upper Foundation Stage visit to Eureka
DESCRIPTION:
URL:https://west-end-academy.org/event/upper-foundation-stage-visit-to-eureka-3/
END:VEVENT
BEGIN:VEVENT
DTSTART;VALUE=DATE:20250612
DTEND;VALUE=DATE:20250613
DTSTAMP:20260425T161236
CREATED:20250425T114016Z
LAST-MODIFIED:20250425T114016Z
UID:4613-1749686400-1749772799@west-end-academy.org
SUMMARY:Year 6 visit to National Coal Mining Museum
DESCRIPTION:
URL:https://west-end-academy.org/event/year-6-visit-to-national-coal-mining-museum-4/
END:VEVENT
BEGIN:VEVENT
DTSTART;VALUE=DATE:20250616
DTEND;VALUE=DATE:20250617
DTSTAMP:20260425T161236
CREATED:20250425T113957Z
LAST-MODIFIED:20250425T113957Z
UID:4611-1750032000-1750118399@west-end-academy.org
SUMMARY:Year 5 visit to the National Space Centre
DESCRIPTION:
URL:https://west-end-academy.org/event/year-5-visit-to-the-national-space-centre/
END:VEVENT
BEGIN:VEVENT
DTSTART;VALUE=DATE:20250616
DTEND;VALUE=DATE:20250617
DTSTAMP:20260425T161236
CREATED:20250425T114029Z
LAST-MODIFIED:20250425T114029Z
UID:4615-1750032000-1750118399@west-end-academy.org
SUMMARY:Year 1 visit to Yorkshire Wildlife Park
DESCRIPTION:
URL:https://west-end-academy.org/event/year-1-visit-to-yorkshire-wildlife-park-2/
END:VEVENT
BEGIN:VEVENT
DTSTART;VALUE=DATE:20250625
DTEND;VALUE=DATE:20250626
DTSTAMP:20260425T161236
CREATED:20250425T115414Z
LAST-MODIFIED:20250425T115414Z
UID:4617-1750809600-1750895999@west-end-academy.org
SUMMARY:Upper Foundation Stage sports day
DESCRIPTION:
URL:https://west-end-academy.org/event/upper-foundation-stage-sports-day-2/
END:VEVENT
BEGIN:VEVENT
DTSTART;VALUE=DATE:20250626
DTEND;VALUE=DATE:20250627
DTSTAMP:20260425T161236
CREATED:20250425T115429Z
LAST-MODIFIED:20250425T115429Z
UID:4619-1750896000-1750982399@west-end-academy.org
SUMMARY:Years 4\, 5 and 6 sports day
DESCRIPTION:
URL:https://west-end-academy.org/event/years-4-5-and-6-sports-day-2/
END:VEVENT
BEGIN:VEVENT
DTSTART;VALUE=DATE:20250627
DTEND;VALUE=DATE:20250628
DTSTAMP:20260425T161236
CREATED:20250425T115445Z
LAST-MODIFIED:20250425T115445Z
UID:4621-1750982400-1751068799@west-end-academy.org
SUMMARY:Years 1\, 2 and 3 sports day
DESCRIPTION:
URL:https://west-end-academy.org/event/years-1-2-and-3-sports-day-2/
END:VEVENT
BEGIN:VEVENT
DTSTART;VALUE=DATE:20250702
DTEND;VALUE=DATE:20250703
DTSTAMP:20260425T161236
CREATED:20250425T115513Z
LAST-MODIFIED:20250425T115513Z
UID:4625-1751414400-1751500799@west-end-academy.org
SUMMARY:Year 4 visit to Yorkshire Water
DESCRIPTION:
URL:https://west-end-academy.org/event/year-4-visit-to-yorkshire-water-3/
END:VEVENT
END:VCALENDAR