BEGIN:VCALENDAR
VERSION:2.0
PRODID:-//West End Academy - ECPv5.1.4//NONSGML v1.0//EN
CALSCALE:GREGORIAN
METHOD:PUBLISH
X-WR-CALNAME:West End Academy
X-ORIGINAL-URL:https://west-end-academy.org
X-WR-CALDESC:Events for West End Academy
BEGIN:VTIMEZONE
TZID:Europe/London
BEGIN:DAYLIGHT
TZOFFSETFROM:+0000
TZOFFSETTO:+0100
TZNAME:BST
DTSTART:20250330T010000
END:DAYLIGHT
BEGIN:STANDARD
TZOFFSETFROM:+0100
TZOFFSETTO:+0000
TZNAME:GMT
DTSTART:20251026T010000
END:STANDARD
END:VTIMEZONE
BEGIN:VEVENT
DTSTART;VALUE=DATE:20250512
DTEND;VALUE=DATE:20250516
DTSTAMP:20260425T175800
CREATED:20250425T113525Z
LAST-MODIFIED:20250425T113525Z
UID:4590-1747008000-1747353599@west-end-academy.org
SUMMARY:SATs week for Year 6
DESCRIPTION:
URL:https://west-end-academy.org/event/sats-week-for-year-6-3/
END:VEVENT
BEGIN:VEVENT
DTSTART;VALUE=DATE:20250519
DTEND;VALUE=DATE:20250520
DTSTAMP:20260425T175800
CREATED:20250425T113554Z
LAST-MODIFIED:20250425T113554Z
UID:4592-1747612800-1747699199@west-end-academy.org
SUMMARY:Lower Key Stage 2 INSPIRE morning
DESCRIPTION:
URL:https://west-end-academy.org/event/lower-key-stage-2-inspire-morning-4/
END:VEVENT
BEGIN:VEVENT
DTSTART;VALUE=DATE:20250520
DTEND;VALUE=DATE:20250521
DTSTAMP:20260425T175800
CREATED:20250425T113614Z
LAST-MODIFIED:20250425T113614Z
UID:4594-1747699200-1747785599@west-end-academy.org
SUMMARY:Foundation Stage INSPIRE morning
DESCRIPTION:
URL:https://west-end-academy.org/event/foundation-stage-inspire-morning-8/
END:VEVENT
BEGIN:VEVENT
DTSTART;VALUE=DATE:20250522
DTEND;VALUE=DATE:20250523
DTSTAMP:20260425T175800
CREATED:20250425T113648Z
LAST-MODIFIED:20250425T113648Z
UID:4596-1747872000-1747958399@west-end-academy.org
SUMMARY:Key Stage 1 INSPIRE morning
DESCRIPTION:
URL:https://west-end-academy.org/event/key-stage-1-inspire-morning-6/
END:VEVENT
BEGIN:VEVENT
DTSTART;VALUE=DATE:20250523
DTEND;VALUE=DATE:20250524
DTSTAMP:20260425T175800
CREATED:20250425T113810Z
LAST-MODIFIED:20250425T113810Z
UID:4598-1747958400-1748044799@west-end-academy.org
SUMMARY:Upper Key Stage 2 INSPIRE morning
DESCRIPTION:
URL:https://west-end-academy.org/event/upper-key-stage-2-inspire-morning-6/
END:VEVENT
BEGIN:VEVENT
DTSTART;TZID=Europe/London:20250523T151500
DTEND;TZID=Europe/London:20250523T151500
DTSTAMP:20260425T175800
CREATED:20240906T101441Z
LAST-MODIFIED:20240906T101441Z
UID:3932-1748013300-1748013300@west-end-academy.org
SUMMARY:School closes for half term
DESCRIPTION:
URL:https://west-end-academy.org/event/3932/
END:VEVENT
END:VCALENDAR