BEGIN:VCALENDAR
VERSION:2.0
PRODID:-//West End Academy - ECPv5.1.4//NONSGML v1.0//EN
CALSCALE:GREGORIAN
METHOD:PUBLISH
X-WR-CALNAME:West End Academy
X-ORIGINAL-URL:https://west-end-academy.org
X-WR-CALDESC:Events for West End Academy
BEGIN:VTIMEZONE
TZID:Europe/London
BEGIN:DAYLIGHT
TZOFFSETFROM:+0000
TZOFFSETTO:+0100
TZNAME:BST
DTSTART:20250330T010000
END:DAYLIGHT
BEGIN:STANDARD
TZOFFSETFROM:+0100
TZOFFSETTO:+0000
TZNAME:GMT
DTSTART:20251026T010000
END:STANDARD
END:VTIMEZONE
BEGIN:VEVENT
DTSTART;TZID=Europe/London:20250224T084500
DTEND;TZID=Europe/London:20250224T084500
DTSTAMP:20260425T211909
CREATED:20240906T101204Z
LAST-MODIFIED:20240906T101204Z
UID:3927-1740386700-1740386700@west-end-academy.org
SUMMARY:School opens for spring 2
DESCRIPTION:
URL:https://west-end-academy.org/event/school-opens-for-spring-2-3/
END:VEVENT
BEGIN:VEVENT
DTSTART;VALUE=DATE:20250228
DTEND;VALUE=DATE:20250301
DTSTAMP:20260425T211909
CREATED:20250110T144943Z
LAST-MODIFIED:20250110T144943Z
UID:4364-1740700800-1740787199@west-end-academy.org
SUMMARY:Year 5 Brazil Workshop
DESCRIPTION:
URL:https://west-end-academy.org/event/year-5-brazil-workshop-2/
END:VEVENT
BEGIN:VEVENT
DTSTART;VALUE=DATE:20250303
DTEND;VALUE=DATE:20250304
DTSTAMP:20260425T211909
CREATED:20250110T144957Z
LAST-MODIFIED:20250110T144957Z
UID:4366-1740960000-1741046399@west-end-academy.org
SUMMARY:Parents’ evening
DESCRIPTION:
URL:https://west-end-academy.org/event/parents-evening-13/
END:VEVENT
BEGIN:VEVENT
DTSTART;VALUE=DATE:20250304
DTEND;VALUE=DATE:20250305
DTSTAMP:20260425T211909
CREATED:20250110T145010Z
LAST-MODIFIED:20250110T145010Z
UID:4368-1741046400-1741132799@west-end-academy.org
SUMMARY:Parents’ evening
DESCRIPTION:
URL:https://west-end-academy.org/event/parents-evening-14/
END:VEVENT
BEGIN:VEVENT
DTSTART;VALUE=DATE:20250306
DTEND;VALUE=DATE:20250307
DTSTAMP:20260425T211909
CREATED:20250110T145021Z
LAST-MODIFIED:20250110T145021Z
UID:4370-1741219200-1741305599@west-end-academy.org
SUMMARY:World Book Day
DESCRIPTION:
URL:https://west-end-academy.org/event/world-book-day-3/
END:VEVENT
BEGIN:VEVENT
DTSTART;VALUE=DATE:20250313
DTEND;VALUE=DATE:20250314
DTSTAMP:20260425T211909
CREATED:20250110T145032Z
LAST-MODIFIED:20250110T145032Z
UID:4372-1741824000-1741910399@west-end-academy.org
SUMMARY:Year 6 visit to The Deep
DESCRIPTION:
URL:https://west-end-academy.org/event/year-6-visit-to-the-deep-2/
END:VEVENT
BEGIN:VEVENT
DTSTART;VALUE=DATE:20250314
DTEND;VALUE=DATE:20250315
DTSTAMP:20260425T211909
CREATED:20250110T145044Z
LAST-MODIFIED:20250110T145044Z
UID:4374-1741910400-1741996799@west-end-academy.org
SUMMARY:Year 1 visit to Abbey House Museum
DESCRIPTION:
URL:https://west-end-academy.org/event/year-1-visit-to-abbey-house-museum-3/
END:VEVENT
BEGIN:VEVENT
DTSTART;VALUE=DATE:20250314
DTEND;VALUE=DATE:20250315
DTSTAMP:20260425T211909
CREATED:20250110T145058Z
LAST-MODIFIED:20250110T145058Z
UID:4376-1741910400-1741996799@west-end-academy.org
SUMMARY:Upper Foundation Stage Superhero Day
DESCRIPTION:
URL:https://west-end-academy.org/event/upper-foundation-stage-superhero-day-2/
END:VEVENT
BEGIN:VEVENT
DTSTART;VALUE=DATE:20250320
DTEND;VALUE=DATE:20250321
DTSTAMP:20260425T211909
CREATED:20250110T145110Z
LAST-MODIFIED:20250110T145110Z
UID:4378-1742428800-1742515199@west-end-academy.org
SUMMARY:Waterton’s Got Talent
DESCRIPTION:
URL:https://west-end-academy.org/event/watertons-got-talent-2/
END:VEVENT
BEGIN:VEVENT
DTSTART;VALUE=DATE:20250327
DTEND;VALUE=DATE:20250328
DTSTAMP:20260425T211909
CREATED:20250110T145122Z
LAST-MODIFIED:20250110T145122Z
UID:4380-1743033600-1743119999@west-end-academy.org
SUMMARY:Key Stage 1 Mother’s Day Assembly
DESCRIPTION:
URL:https://west-end-academy.org/event/key-stage-1-mothers-day-assembly-2/
END:VEVENT
BEGIN:VEVENT
DTSTART;TZID=Europe/London:20250404T151500
DTEND;TZID=Europe/London:20250404T151500
DTSTAMP:20260425T211909
CREATED:20240906T101400Z
LAST-MODIFIED:20240906T101400Z
UID:3930-1743779700-1743779700@west-end-academy.org
SUMMARY:School closes for Easter
DESCRIPTION:
URL:https://west-end-academy.org/event/school-closes-for-easter-3/
END:VEVENT
END:VCALENDAR